BEGIN:VCALENDAR
VERSION:2.0
PRODID:-//Colts Neck Township - ECPv6.15.17.1//NONSGML v1.0//EN
CALSCALE:GREGORIAN
METHOD:PUBLISH
X-WR-CALNAME:Colts Neck Township
X-ORIGINAL-URL:https://coltsneck.org
X-WR-CALDESC:Events for Colts Neck Township
REFRESH-INTERVAL;VALUE=DURATION:PT1H
X-Robots-Tag:noindex
X-PUBLISHED-TTL:PT1H
BEGIN:VTIMEZONE
TZID:America/New_York
BEGIN:DAYLIGHT
TZOFFSETFROM:-0500
TZOFFSETTO:-0400
TZNAME:EDT
DTSTART:20250309T070000
END:DAYLIGHT
BEGIN:STANDARD
TZOFFSETFROM:-0400
TZOFFSETTO:-0500
TZNAME:EST
DTSTART:20251102T060000
END:STANDARD
BEGIN:DAYLIGHT
TZOFFSETFROM:-0500
TZOFFSETTO:-0400
TZNAME:EDT
DTSTART:20260308T070000
END:DAYLIGHT
BEGIN:STANDARD
TZOFFSETFROM:-0400
TZOFFSETTO:-0500
TZNAME:EST
DTSTART:20261101T060000
END:STANDARD
BEGIN:DAYLIGHT
TZOFFSETFROM:-0500
TZOFFSETTO:-0400
TZNAME:EDT
DTSTART:20270314T070000
END:DAYLIGHT
BEGIN:STANDARD
TZOFFSETFROM:-0400
TZOFFSETTO:-0500
TZNAME:EST
DTSTART:20271107T060000
END:STANDARD
END:VTIMEZONE
BEGIN:VEVENT
DTSTART;TZID=America/New_York:20260206T083000
DTEND;TZID=America/New_York:20260206T083000
DTSTAMP:20260421T055811
CREATED:20251104T164255Z
LAST-MODIFIED:20251104T164255Z
UID:16448-1770366600-1770366600@coltsneck.org
SUMMARY:Colts Neck Municipal Court
DESCRIPTION:
URL:https://coltsneck.org/event/colts-neck-municipal-court-2/2026-02-06/
LOCATION:Town Hall\, 1 Veterans Way\, Colts Neck\, NJ\, 07722\, United States
CATEGORIES:Events
END:VEVENT
BEGIN:VEVENT
DTSTART;TZID=America/New_York:20260210T190000
DTEND;TZID=America/New_York:20260210T190000
DTSTAMP:20260421T055811
CREATED:20260206T004348Z
LAST-MODIFIED:20260206T004425Z
UID:17133-1770750000-1770750000@coltsneck.org
SUMMARY:Planning Board Meeting
DESCRIPTION:
URL:https://coltsneck.org/event/planning-board-meeting-10/
CATEGORIES:Planning Board
END:VEVENT
BEGIN:VEVENT
DTSTART;TZID=America/New_York:20260211T190000
DTEND;TZID=America/New_York:20260211T190000
DTSTAMP:20260421T055811
CREATED:20260104T161251Z
LAST-MODIFIED:20260104T161251Z
UID:16785-1770836400-1770836400@coltsneck.org
SUMMARY:Township Committee Meeting
DESCRIPTION:
URL:https://coltsneck.org/event/township-committee-meeting-18/
CATEGORIES:Events
END:VEVENT
BEGIN:VEVENT
DTSTART;TZID=America/New_York:20260213T083000
DTEND;TZID=America/New_York:20260213T083000
DTSTAMP:20260421T055811
CREATED:20251104T164255Z
LAST-MODIFIED:20251104T164255Z
UID:16449-1770971400-1770971400@coltsneck.org
SUMMARY:Colts Neck Municipal Court
DESCRIPTION:
URL:https://coltsneck.org/event/colts-neck-municipal-court-2/2026-02-13/
LOCATION:Town Hall\, 1 Veterans Way\, Colts Neck\, NJ\, 07722\, United States
CATEGORIES:Events
END:VEVENT
BEGIN:VEVENT
DTSTART;TZID=America/New_York:20260216T080000
DTEND;TZID=America/New_York:20260216T080000
DTSTAMP:20260421T055811
CREATED:20251107T164311Z
LAST-MODIFIED:20251107T165031Z
UID:16500-1771228800-1771228800@coltsneck.org
SUMMARY:TOWNSHIP OFFICES CLOSED
DESCRIPTION:
URL:https://coltsneck.org/event/township-offices-closed-43/2026-02-16/
LOCATION:Town Hall\, 1 Veterans Way\, Colts Neck\, NJ\, 07722\, United States
CATEGORIES:Events
END:VEVENT
BEGIN:VEVENT
DTSTART;TZID=America/New_York:20260217T190000
DTEND;TZID=America/New_York:20260217T190000
DTSTAMP:20260421T055811
CREATED:20260105T161728Z
LAST-MODIFIED:20260105T161728Z
UID:16830-1771354800-1771354800@coltsneck.org
SUMMARY:Recreation Committee Meeting
DESCRIPTION:
URL:https://coltsneck.org/event/recreation-committee-meeting-13/
CATEGORIES:Events
END:VEVENT
BEGIN:VEVENT
DTSTART;TZID=America/New_York:20260218T063000
DTEND;TZID=America/New_York:20260218T183000
DTSTAMP:20260421T055811
CREATED:20260104T233530Z
LAST-MODIFIED:20260104T233530Z
UID:16809-1771396200-1771439400@coltsneck.org
SUMMARY:Historic Preservation Committee Meeting
DESCRIPTION:
URL:https://coltsneck.org/event/historic-preservation-committee-meeting-10/
CATEGORIES:Events
END:VEVENT
BEGIN:VEVENT
DTSTART;TZID=America/New_York:20260219T190000
DTEND;TZID=America/New_York:20260219T190000
DTSTAMP:20260421T055811
CREATED:20260206T005440Z
LAST-MODIFIED:20260206T005440Z
UID:17146-1771527600-1771527600@coltsneck.org
SUMMARY:Zoning Board of Adjustment Meeting
DESCRIPTION:
URL:https://coltsneck.org/event/zoning-board-of-adjustment-meeting-6/
CATEGORIES:Zoning Board
END:VEVENT
BEGIN:VEVENT
DTSTART;TZID=America/New_York:20260225T170000
DTEND;TZID=America/New_York:20260225T170000
DTSTAMP:20260421T055811
CREATED:20260222T224456Z
LAST-MODIFIED:20260222T224456Z
UID:17231-1772038800-1772038800@coltsneck.org
SUMMARY:Environmental Commission Meeting - CANCELLED
DESCRIPTION:
URL:https://coltsneck.org/event/environmental-commission-meeting-cancelled/
CATEGORIES:Events
END:VEVENT
BEGIN:VEVENT
DTSTART;TZID=America/New_York:20260225T190000
DTEND;TZID=America/New_York:20260225T190000
DTSTAMP:20260421T055811
CREATED:20260104T161331Z
LAST-MODIFIED:20260104T161331Z
UID:16786-1772046000-1772046000@coltsneck.org
SUMMARY:Township Committee Meeting
DESCRIPTION:
URL:https://coltsneck.org/event/township-committee-meeting-19/
CATEGORIES:Events
END:VEVENT
BEGIN:VEVENT
DTSTART;TZID=America/New_York:20260227T083000
DTEND;TZID=America/New_York:20260227T083000
DTSTAMP:20260421T055811
CREATED:20251104T164255Z
LAST-MODIFIED:20251104T164255Z
UID:16450-1772181000-1772181000@coltsneck.org
SUMMARY:Colts Neck Municipal Court
DESCRIPTION:
URL:https://coltsneck.org/event/colts-neck-municipal-court-2/2026-02-27/
LOCATION:Town Hall\, 1 Veterans Way\, Colts Neck\, NJ\, 07722\, United States
CATEGORIES:Events
END:VEVENT
END:VCALENDAR