BEGIN:VCALENDAR
VERSION:2.0
PRODID:-//Colts Neck Township - ECPv6.15.17.1//NONSGML v1.0//EN
CALSCALE:GREGORIAN
METHOD:PUBLISH
X-WR-CALNAME:Colts Neck Township
X-ORIGINAL-URL:https://coltsneck.org
X-WR-CALDESC:Events for Colts Neck Township
REFRESH-INTERVAL;VALUE=DURATION:PT1H
X-Robots-Tag:noindex
X-PUBLISHED-TTL:PT1H
BEGIN:VTIMEZONE
TZID:America/New_York
BEGIN:DAYLIGHT
TZOFFSETFROM:-0500
TZOFFSETTO:-0400
TZNAME:EDT
DTSTART:20220313T070000
END:DAYLIGHT
BEGIN:STANDARD
TZOFFSETFROM:-0400
TZOFFSETTO:-0500
TZNAME:EST
DTSTART:20221106T060000
END:STANDARD
BEGIN:DAYLIGHT
TZOFFSETFROM:-0500
TZOFFSETTO:-0400
TZNAME:EDT
DTSTART:20230312T070000
END:DAYLIGHT
BEGIN:STANDARD
TZOFFSETFROM:-0400
TZOFFSETTO:-0500
TZNAME:EST
DTSTART:20231105T060000
END:STANDARD
BEGIN:DAYLIGHT
TZOFFSETFROM:-0500
TZOFFSETTO:-0400
TZNAME:EDT
DTSTART:20240310T070000
END:DAYLIGHT
BEGIN:STANDARD
TZOFFSETFROM:-0400
TZOFFSETTO:-0500
TZNAME:EST
DTSTART:20241103T060000
END:STANDARD
END:VTIMEZONE
BEGIN:VEVENT
DTSTART;TZID=America/New_York:20230801T170000
DTEND;TZID=America/New_York:20230801T170000
DTSTAMP:20260423T111049
CREATED:20230725T132605Z
LAST-MODIFIED:20230725T132605Z
UID:11122-1690909200-1690909200@coltsneck.org
SUMMARY:National Night Out
DESCRIPTION:
URL:https://coltsneck.org/event/national-night-out/
LOCATION:Bucks Mill Recreation Area\, 135 Bucks Mill Road\, Colts Neck\, NJ\, 07722
CATEGORIES:Events
END:VEVENT
BEGIN:VEVENT
DTSTART;TZID=America/New_York:20230808T193000
DTEND;TZID=America/New_York:20230808T193000
DTSTAMP:20260423T111049
CREATED:20230117T193847Z
LAST-MODIFIED:20230808T200652Z
UID:10022-1691523000-1691523000@coltsneck.org
SUMMARY:Planning Board Meeting - CANCELLED
DESCRIPTION:
URL:https://coltsneck.org/event/planning-board-meeting-5-2023-08-08/
LOCATION:Colts Neck Library\, 2 Veterans Way\, Colts Neck\, NJ\, 07722\, United States
CATEGORIES:Events
END:VEVENT
BEGIN:VEVENT
DTSTART;TZID=America/New_York:20230815T193000
DTEND;TZID=America/New_York:20230815T193000
DTSTAMP:20260423T111049
CREATED:20230126T174459Z
LAST-MODIFIED:20230808T200835Z
UID:10108-1692127800-1692127800@coltsneck.org
SUMMARY:Environmental Commission Meeting - CANCELLED
DESCRIPTION:
URL:https://coltsneck.org/event/environmental-commission-meeting-4-2023-08-15/
LOCATION:Town Hall Meeting Room\, 1 Veterans Way\, Colts Neck\, NJ\, 07722\, United States
CATEGORIES:Events
END:VEVENT
BEGIN:VEVENT
DTSTART;TZID=America/New_York:20230816T183000
DTEND;TZID=America/New_York:20230816T183000
DTSTAMP:20260423T111049
CREATED:20221213T204819Z
LAST-MODIFIED:20230810T185248Z
UID:9482-1692210600-1692210600@coltsneck.org
SUMMARY:Historic Preservation Committee
DESCRIPTION:
URL:https://coltsneck.org/event/historic-preservation-committee-2-2023-08-16/
LOCATION:Colts Neck General Store\, 171 County Road 537\, Colts Neck\, NJ\, 07722\, United States
CATEGORIES:Events
END:VEVENT
BEGIN:VEVENT
DTSTART;TZID=America/New_York:20230818T083000
DTEND;TZID=America/New_York:20230818T083000
DTSTAMP:20260423T111049
CREATED:20230509T162318Z
LAST-MODIFIED:20230711T174706Z
UID:10702-1692347400-1692347400@coltsneck.org
SUMMARY:Municipal Court
DESCRIPTION:
URL:https://coltsneck.org/event/municipal-court-36-2023-08-25/
LOCATION:Colts Neck Municipal Court\, 1 Veterans Way\, Colts Neck\, NJ\, 07722\, United States
CATEGORIES:Events
END:VEVENT
END:VCALENDAR