BEGIN:VCALENDAR
VERSION:2.0
PRODID:-//Colts Neck Township - ECPv6.15.17.1//NONSGML v1.0//EN
CALSCALE:GREGORIAN
METHOD:PUBLISH
X-ORIGINAL-URL:https://coltsneck.org
X-WR-CALDESC:Events for Colts Neck Township
REFRESH-INTERVAL;VALUE=DURATION:PT1H
X-Robots-Tag:noindex
X-PUBLISHED-TTL:PT1H
BEGIN:VTIMEZONE
TZID:America/New_York
BEGIN:DAYLIGHT
TZOFFSETFROM:-0500
TZOFFSETTO:-0400
TZNAME:EDT
DTSTART:20220313T070000
END:DAYLIGHT
BEGIN:STANDARD
TZOFFSETFROM:-0400
TZOFFSETTO:-0500
TZNAME:EST
DTSTART:20221106T060000
END:STANDARD
BEGIN:DAYLIGHT
TZOFFSETFROM:-0500
TZOFFSETTO:-0400
TZNAME:EDT
DTSTART:20230312T070000
END:DAYLIGHT
BEGIN:STANDARD
TZOFFSETFROM:-0400
TZOFFSETTO:-0500
TZNAME:EST
DTSTART:20231105T060000
END:STANDARD
BEGIN:DAYLIGHT
TZOFFSETFROM:-0500
TZOFFSETTO:-0400
TZNAME:EDT
DTSTART:20240310T070000
END:DAYLIGHT
BEGIN:STANDARD
TZOFFSETFROM:-0400
TZOFFSETTO:-0500
TZNAME:EST
DTSTART:20241103T060000
END:STANDARD
END:VTIMEZONE
BEGIN:VEVENT
DTSTART;TZID=America/New_York:20230703T080000
DTEND;TZID=America/New_York:20230703T080000
DTSTAMP:20260423T124120
CREATED:20230629T140031Z
LAST-MODIFIED:20230629T140031Z
UID:10993-1688371200-1688371200@coltsneck.org
SUMMARY:Township Offices Closed
DESCRIPTION:
URL:https://coltsneck.org/event/township-offices-closed-22/
CATEGORIES:Events
END:VEVENT
BEGIN:VEVENT
DTSTART;TZID=America/New_York:20230703T180000
DTEND;TZID=America/New_York:20230703T180000
DTSTAMP:20260423T124120
CREATED:20230612T124131Z
LAST-MODIFIED:20230612T124153Z
UID:10877-1688407200-1688407200@coltsneck.org
SUMMARY:Fourth of July Fireworks
DESCRIPTION:
URL:https://coltsneck.org/event/fourth-of-july-fireworks/
LOCATION:Bucks Mill Recreation Area\, 135 Bucks Mill Road\, Colts Neck\, NJ\, 07722
CATEGORIES:Events
END:VEVENT
BEGIN:VEVENT
DTSTART;TZID=America/New_York:20230704T080000
DTEND;TZID=America/New_York:20230704T080000
DTSTAMP:20260423T124120
CREATED:20230103T143342Z
LAST-MODIFIED:20230629T140128Z
UID:9603-1688457600-1688457600@coltsneck.org
SUMMARY:Township Offices Closed
DESCRIPTION:
URL:https://coltsneck.org/event/township-offices-closed-15/
CATEGORIES:Events
END:VEVENT
BEGIN:VEVENT
DTSTART;TZID=America/New_York:20230710T193000
DTEND;TZID=America/New_York:20230710T193000
DTSTAMP:20260423T124120
CREATED:20221213T205326Z
LAST-MODIFIED:20230710T134254Z
UID:9515-1689017400-1689017400@coltsneck.org
SUMMARY:Farmland and Open Space Committee - CANCELLED
DESCRIPTION:
URL:https://coltsneck.org/event/farmland-and-open-space-committee-3-2023-07-10/
LOCATION:Town Hall Meeting Room\, 1 Veterans Way\, Colts Neck\, NJ\, 07722\, United States
CATEGORIES:Events
END:VEVENT
BEGIN:VEVENT
DTSTART;TZID=America/New_York:20230711T190000
DTEND;TZID=America/New_York:20230711T190000
DTSTAMP:20260423T124120
CREATED:20230111T195503Z
LAST-MODIFIED:20230111T195503Z
UID:9910-1689102000-1689102000@coltsneck.org
SUMMARY:Board of Health Meeting
DESCRIPTION:
URL:https://coltsneck.org/event/board-of-health-meeting-3/
LOCATION:Town Hall Meeting Room\, 1 Veterans Way\, Colts Neck\, NJ\, 07722\, United States
CATEGORIES:Events
END:VEVENT
BEGIN:VEVENT
DTSTART;TZID=America/New_York:20230719T183000
DTEND;TZID=America/New_York:20230719T183000
DTSTAMP:20260423T124120
CREATED:20230109T150906Z
LAST-MODIFIED:20230711T134434Z
UID:9824-1689791400-1689791400@coltsneck.org
SUMMARY:Township Committee Meeting
DESCRIPTION:
URL:https://coltsneck.org/event/township-committee-meeting-7-2023-07-12/
LOCATION:Town Hall\, 1 Veterans Way\, Colts Neck\, NJ\, 07722\, United States
CATEGORIES:Events
END:VEVENT
END:VCALENDAR